BEGIN:VCALENDAR
VERSION:2.0
PRODID:icalendar-ruby
CALSCALE:GREGORIAN
METHOD:PUBLISH
BEGIN:VEVENT
DTSTAMP:20260421T021413Z
UID:5-1064057@sunnysidechurch.ca
DTSTART:20261101T150000Z
DTEND:20261101T160000Z
CLASS:PUBLIC
CREATED:20260420T202554
DESCRIPTION:Sunday Worship
LAST-MODIFIED:20260420T202554
LOCATION:
SUMMARY:Sunday Worship
URL;VALUE=URI:https://www.sunnysidechurch.ca/events/sunday-worship/2026-11-
 01
END:VEVENT
END:VCALENDAR
