BEGIN:VCALENDAR
VERSION:2.0
PRODID:icalendar-ruby
CALSCALE:GREGORIAN
METHOD:PUBLISH
BEGIN:VEVENT
DTSTAMP:20260421T004107Z
UID:5-1064056@sunnysidechurch.ca
DTSTART:20261025T140000Z
DTEND:20261025T150000Z
CLASS:PUBLIC
CREATED:20260420T202554
DESCRIPTION:Sunday Worship
LAST-MODIFIED:20260420T202554
LOCATION:
SUMMARY:Sunday Worship
URL;VALUE=URI:https://www.sunnysidechurch.ca/events/sunday-worship/2026-10-
 25
END:VEVENT
END:VCALENDAR
