BEGIN:VCALENDAR
VERSION:2.0
PRODID:icalendar-ruby
CALSCALE:GREGORIAN
METHOD:PUBLISH
BEGIN:VEVENT
DTSTAMP:20260420T231401Z
UID:5-1063235@sunnysidechurch.ca
DTSTART:20261018T140000Z
DTEND:20261018T150000Z
CLASS:PUBLIC
CREATED:20260420T175059
DESCRIPTION:Sunday Worship
LAST-MODIFIED:20260420T175059
LOCATION:
SUMMARY:Sunday Worship
URL;VALUE=URI:https://www.sunnysidechurch.ca/events/sunday-worship/2026-10-
 18
END:VEVENT
END:VCALENDAR
