BEGIN:VCALENDAR
VERSION:2.0
PRODID:icalendar-ruby
CALSCALE:GREGORIAN
METHOD:PUBLISH
BEGIN:VEVENT
DTSTAMP:20260420T214226Z
UID:5-1062414@sunnysidechurch.ca
DTSTART:20261011T140000Z
DTEND:20261011T150000Z
CLASS:PUBLIC
CREATED:20260420T151502
DESCRIPTION:Sunday Worship
LAST-MODIFIED:20260420T151502
LOCATION:
SUMMARY:Sunday Worship
URL;VALUE=URI:https://www.sunnysidechurch.ca/events/sunday-worship/2026-10-
 11
END:VEVENT
END:VCALENDAR
