BEGIN:VCALENDAR
VERSION:2.0
PRODID:icalendar-ruby
CALSCALE:GREGORIAN
METHOD:PUBLISH
BEGIN:VEVENT
DTSTAMP:20260420T210748Z
UID:144-1061335@sunnysidechurch.ca
DTSTART:20260509T130000Z
DTEND:20260509T160000Z
CLASS:PUBLIC
CREATED:20260420T111537
DESCRIPTION:Everyone is invited to join us Saturday May 9th from 9am-12pm f
 or our annual Spring Work Bee. This is a morning where we look to clean up
  our space\, and get things ready for the next season. It is also a great 
 time to have conversation and build relationships with others in our churc
 h community! No experience necessary and tasks for all ages and abilities!
 \n 
LAST-MODIFIED:20260420T111537
LOCATION:Sunnyside Wesleyan Church
SUMMARY:Spring Work Bee
URL;VALUE=URI:https://www.sunnysidechurch.ca/events/spring-work-bee/2026-05
 -09
ATTACH;FILENAME=announcement-11.jpg;FMTTYPE=image/jpeg:https://dq5pwpg1q8ru
 0.cloudfront.net/2026/04/20/15/15/36/79871f6b-de3d-4c02-aa6a-ac28a3c6d288/
 announcement-11.jpg
END:VEVENT
END:VCALENDAR
