BEGIN:VCALENDAR
VERSION:2.0
PRODID:icalendar-ruby
CALSCALE:GREGORIAN
METHOD:PUBLISH
BEGIN:VEVENT
DTSTAMP:20260420T210610Z
UID:143-1061334@sunnysidechurch.ca
DTSTART:20260426T163000Z
DTEND:20260426T180000Z
CLASS:PUBLIC
CREATED:20260420T111452
DESCRIPTION:If you are new to Sunnyside we would love to give you a chance 
 to have lunch with the pastors and get to know Sunnyside! Join us April 26
 th following the 11am service for a FREE lunch and conversation with our p
 astoral team!\n 
LAST-MODIFIED:20260420T111452
LOCATION:Sunnyside Wesleyan Church
SUMMARY:Newcomers Lunch
URL;VALUE=URI:https://www.sunnysidechurch.ca/events/newcomers-lunch/2026-04
 -26
ATTACH;FILENAME=announcement-12.jpg;FMTTYPE=image/jpeg:https://dq5pwpg1q8ru
 0.cloudfront.net/2026/04/20/15/14/51/2bb1b214-2be9-494c-a644-dfb8ac6ea9d6/
 announcement-12.jpg
END:VEVENT
END:VCALENDAR
