BEGIN:VCALENDAR
VERSION:2.0
PRODID:icalendar-ruby
CALSCALE:GREGORIAN
METHOD:PUBLISH
BEGIN:VEVENT
DTSTAMP:20260420T211841Z
UID:142-1061336@sunnysidechurch.ca
DTSTART:20260522T223000Z
DTEND:20260523T013000Z
CLASS:PUBLIC
CREATED:20260420T112107
DESCRIPTION:Everyone of all ages is invited to join us for a FREE Family Mo
 vie Night as we watch the new DAVID Movie together! \nWatch the Trailer H
 ERE!
LAST-MODIFIED:20260420T112107
LOCATION:Sunnyside Wesleyan Church
SUMMARY:Family Movie Night
URL;VALUE=URI:https://www.sunnysidechurch.ca/events/family-movie-night/2026
 -05-22
ATTACH;FILENAME=announcement-10.jpg;FMTTYPE=image/jpeg:https://dq5pwpg1q8ru
 0.cloudfront.net/2026/04/20/15/10/45/8afcbe3a-bf31-40f0-9cab-41df6205b338/
 announcement-10.jpg
END:VEVENT
END:VCALENDAR
